BEGIN:VCALENDAR
VERSION:2.0
PRODID:icalendar-ruby
CALSCALE:GREGORIAN
METHOD:PUBLISH
BEGIN:VEVENT
DTSTAMP:20260421T081603Z
UID:125-1032833@asuuc.net
DTSTART:20261220T000000Z
DTEND:20261220T020000Z
CLASS:PUBLIC
CREATED:20260417T104721
DESCRIPTION:
LAST-MODIFIED:20260417T104721
LOCATION:Great Hall
SUMMARY:New Member Potluck
URL;VALUE=URI:https://www.asuuc.net/events/new-member-potluck/2026-12-19
ATTACH;FILENAME=Affinity-Groups-%2813%29.png;FMTTYPE=image/png:https://dq5p
 wpg1q8ru0.cloudfront.net/2025/09/26/18/27/42/df9b8fc1-9595-468f-8952-db2a5
 723368a/Affinity-Groups-%252813%2529.png
END:VEVENT
END:VCALENDAR
