BEGIN:VCALENDAR
VERSION:2.0
PRODID:icalendar-ruby
CALSCALE:GREGORIAN
METHOD:PUBLISH
BEGIN:VEVENT
DTSTAMP:20260423T080719Z
UID:185-1023514@asuuc.net
DTSTART:20260428T150000Z
DTEND:20260428T170000Z
CLASS:PUBLIC
CREATED:20260412T100432
DESCRIPTION:Please mark your calendar for Tuesday\, April 28 at 9am for a 2
  hour garden cleanup session\,\nfollowed by a meet and greet for new and c
 urrent members of the garden group. There will be\ncake!\n\nWe will work o
 n cleanup for a couple of hours\, and then stop and enjoy some refreshment
 s and\neach other‘s company. We have several new volunteers and Becky an
 d I are excited to get to\nknow you and talk plants.\nPlease RSPV to\npatz
 eddies@gmail.com OR\ngbharrison1@gmail.com\nIf you cannot attend that date
 \, please contact Pat or Becky at the above email and we will\narrange to 
 meet you and show you around.
LAST-MODIFIED:20260412T100432
LOCATION:
SUMMARY:Happy spring to All Souls gardeners!
URL;VALUE=URI:https://www.asuuc.net/events/happy-spring-to-all-souls-garden
 ers/2026-04-28
ATTACH;FILENAME=Building-and-Grounds-Wide.png;FMTTYPE=image/png:https://dq5
 pwpg1q8ru0.cloudfront.net/2026/04/12/16/04/32/8fabe60f-248e-45f0-894e-2b5f
 56eaaa93/Building-and-Grounds-Wide.png
END:VEVENT
END:VCALENDAR
