BEGIN:VCALENDAR
VERSION:2.0
PRODID:icalendar-ruby
CALSCALE:GREGORIAN
METHOD:PUBLISH
BEGIN:VEVENT
DTSTAMP:20260423T081215Z
UID:188-1029080@asuuc.net
DTSTART:20260430T003000Z
DTEND:20260430T023000Z
CLASS:PUBLIC
CREATED:20260415T100955
DESCRIPTION:
LAST-MODIFIED:20260415T100955
LOCATION:
SUMMARY:Firetenders RoP
URL;VALUE=URI:https://www.asuuc.net/events/firetenders-rop--188/2026-04-29
ATTACH;FILENAME=Fire-Tenders-Wide.png;FMTTYPE=image/png:https://dq5pwpg1q8r
 u0.cloudfront.net/2026/04/15/16/09/55/6697edac-dae9-4f8e-b964-aa215605e690
 /Fire-Tenders-Wide.png
END:VEVENT
END:VCALENDAR
