BEGIN:VCALENDAR
VERSION:2.0
PRODID:icalendar-ruby
CALSCALE:GREGORIAN
METHOD:PUBLISH
BEGIN:VEVENT
DTSTAMP:20260423T112608Z
UID:173-1036266@asuuc.net
DTSTART:20260428T193000Z
DTEND:20260428T213000Z
CLASS:PUBLIC
CREATED:20260419T091125
DESCRIPTION:You are invited to a monthly outreach fellowship opportunity at
  Springs Village Care Center. Our gatherings will take place on the fourth
  Tuesday of each month\, from 1:30–3:30 p.m. \n\nEach visit will be str
 uctured in two parts. During the first hour\, we will gather as a group on
  the second floor in the dining room. The second hour will be devoted to v
 isiting residents who are bed‑bound\, offering companionship and connect
 ion. \n\nWe expect 12–18 residents to participate\, either in the group
  session or through individual visits. Our first meeting will be on April 
 28. \n\nThroughout the program\, we will share Unitarian Universalist re
 sources—materials designed to support meaningful connection\, reflection
 \, and spiritual growth.\n\nPlease contact Sonya Bergeron layminister6@as
 uuc.net if you are interested in being part of this ongoing monthly outrea
 ch. We would love to have you join us. Please feel free to reach out with 
 any questions.\nSprings Village Care Center is a skilled nursing and rehab
 ilitation facility. It provides 24-hour nursing care\, short-term rehabili
 tation\, and memory care services to seniors. 
LAST-MODIFIED:20260419T091125
LOCATION:Springs Village Care Center\, 110 Van Buren St\, Colorado Springs\
 , CO 80907
SUMMARY:Fellowship Outreach Group
URL;VALUE=URI:https://www.asuuc.net/events/fellowship-outreach-group/2026-0
 4-28
ATTACH;FILENAME=Affinity-Groups-%2817%29.png;FMTTYPE=image/png:https://dq5p
 wpg1q8ru0.cloudfront.net/2026/03/10/17/20/53/772b3a02-2605-420e-819d-7c7ad
 3e320a3/Affinity-Groups-%252817%2529.png
END:VEVENT
END:VCALENDAR
